BEGIN:VCALENDAR
VERSION:2.0
PRODID:-//ΓΑΛΙΛΑΙΑ - ECPv5.4.0.2//NONSGML v1.0//EN
CALSCALE:GREGORIAN
METHOD:PUBLISH
X-WR-CALNAME:ΓΑΛΙΛΑΙΑ
X-ORIGINAL-URL:https://galilea.gr
X-WR-CALDESC:ΓΑΛΙΛΑΙΑ - Εκδηλώσεις
BEGIN:VTIMEZONE
TZID:Europe/Athens
BEGIN:DAYLIGHT
TZOFFSETFROM:+0200
TZOFFSETTO:+0300
TZNAME:EEST
DTSTART:20260329T010000
END:DAYLIGHT
BEGIN:STANDARD
TZOFFSETFROM:+0300
TZOFFSETTO:+0200
TZNAME:EET
DTSTART:20261025T010000
END:STANDARD
END:VTIMEZONE
BEGIN:VEVENT
DTSTART;TZID=Europe/Athens:20260425T073000
DTEND;TZID=Europe/Athens:20260425T093000
DTSTAMP:20260423T142404
CREATED:20260422T145146Z
LAST-MODIFIED:20260422T145150Z
UID:52530-1777102200-1777109400@galilea.gr
SUMMARY:ΘΕΙΑ ΛΕΙΤΟΥΡΓΙΑ – ΑΓΙΟΥ ΜΑΚΕΔΟΝΙΟΥ 25 Απρ.2026 (Ζωντανή μετάδοση)
DESCRIPTION:[vc_row][vc_column width=”1/4″][vc_single_image image=”52546″ img_size=”medium”][vc_btn title=”Ακούστε ΕΔΩ το απολυτίκιο του Αγίου Απ.Μάρκου” style=”3d” shape=”round” color=”sky” align=”center” i_icon_fontawesome=”fas fa-music” add_icon=”true” link=”url:https%3A%2F%2Fwww.youtube.com%2Fwatch%3Fv%3DspDN74thItQ%26list%3DPL818C79CB4D1C7C88%26index%3D25″][/vc_column][vc_column width=”3/4″][vc_column_text] \nΘεία Λειτουργία – Αγίου Απ.Μάρκου 25/4/2026\nἮχος δ‘.  Ταχὺ προκατάλαβε.\nΤοῦ Πέτρου συνέκδημος\, καὶ κοινωνὸς ἱερός\, τοῦ Λόγου διάκονος\, καὶ ὑποφήτης σοφός\, ἐδείχθης Ἀπόστολε\, ὅθεν τὸ τοῦ Σωτῆρος\, Εὐαγγέλιον θεῖον\, Μᾶρκε διαχαράττεις\, ὡς οὐράνιος μύστης\, διὸ Εὐαγγελιστὰ σέ\, πόθω γεραίρομεν.\n \n\n\n\n\n\n\nΖωντανή μετάδοση από την Ιστοσελίδα μας ΕΔΩ \n\n\n\n\n\n\n\n[/vc_column_text][vc_zigzag color=”sky”][/vc_column][/vc_row][vc_row][vc_column][vc_column_text] \nΜΝΗΜΗ ΤΟΥ ΑΓΙΟΥ ΜΑΚΕΔΟΝΙΟΥ Β’ ΠΑΤΡΙΑΡΧΗΣ ΚΩΝΣΤΑΝΤΙΝΟΥΠΟΛΕΩΣ\n«Πάντες οἱ θέλοντες εὐσεβῶς ζῆν ἑν Χριστῷ Ἰησοῦ διωχθήσονται» γράφει ὁ Ἀπόστολος Παῦλος καὶ οἱ λόγοι ἐπαληθεύθηκαν πολλὲς φορές\, διότι ἡ εὐσέβεια καὶ ἡ ἀρετὴ προκαλοῦν τὴν κακία. Αὐτὸ συνέβη καὶ μὲ τὸν Πατριάρχη Κωνσταντινουπόλεως\, Ἅγιο Μακεδόνιο\, ὁ ὁποῖος ἔζησε στὰ χρόνια του Ἀναστασίου\, τέλη τοῦ 5ου καὶ ἀρχὲς τοῦ 6ου αἰώνα. Ὁ Ἅγιος Μακεδόνιος ὡς ἀνηψιὸς τοῦ Πατριάρχη Γενναδίου τοῦ Πρώτου εἶχε ἀνατραφεῖ μὲ μεγάλη ἐπιμέλεια καὶ εἶχε ἀποκτήσει μεγάλη μόρφωση. Ἐπὶ πλέον διακρινόταν γιὰ τὴν μεγάλη του εὐσέβεια καὶ τὴν ἀγνότητα τῆς ζωῆς του. Νεότατος εἴσηλθε στὴν Ἐκκλησία νὰ τὴν διακονήσει ὡς κληρικὸς καὶ νὰ τὴν φυλάξει ἀπὸ τὶς ἐπιθέσεις τῶν αἱρετικῶν. Ἀνῆλθε τὶς βαθμίδες τῆς ἱεροσύνης\, ὤσπου ἔλαβε τὸ ὑψηλὸ ἀξίωμα τοῦ Σκευοφύλακα τῆς Μεγάλης τοῦ Χριστοῦ Ἐκκλησίας. Ἁπὸ αὑτὴν τὴ θέση ἐλέγχει τοὺς αἱρετικοὺς\, ποὺ δυσκολεύουν τὸ ἔργο τοῦ Πατριάρχη Εὐφήμιου\, οἱ ὁποῖοι ἔχοντας ὡς συνεργάτες ὑψηλόβαθμους ἄρχοντες κατόρθωναν νὰ ἐπιβάλλουν τὶς κακοδοξίες τους. Οἱ αἱρετικοὶ κατόρθωσαν καὶ παρέσυραν μὲ τὸ μέρος τους τὸν αὐτοκράτορα\, ποὺ ἐκθρόνισε τὸν πατριάρχη Εὐφήμιο στὰ Εὐχάϊτα τοῦ Πόντου. Ὁ Μακεδόνιος τότε\, ἔσπευσε ἀγκάλιασε ἀδελφικὰ τὸν ἀδικημένο Ἱεράρχη καὶ τὸν ἐφοδίασε μὲ χρήματα\, τὰ ὁποῖα\, ὅπως σημειώνει ὁ βιογράφος του\, τὰ εἶχε δανεισθεῖ γιατί ὁ ἴδιος ζοῦσε πολὺ φτωχικά. Τὸ 496 ὁ Σκευοφύλακας Μακεδόνιος ἐκλέχθηκε νὰ διαδεχθεῖ τὸν ἐξόριστο Πατριάρχη Εὐφήμιο. Ἀνῆλθε στὸν Πατριαρχικὸ θρόνο ὡς Μακεδόνιος ὁ Δεύτερος μὲ συναίσθηση τῆς ὀρθοδόξου ἀποστολῆς του. Ἡ κατάσταση γιὰ τὴν Ἐκκλησία ἦταν πολὺ δύσκολη\, δεδομένου ὅτι ὁ αὐτοκράτορας Ἀναστάσιος εὐνοοῦσε τοὺς αἱρετικούς. Ὁ Μακεδόνιος\, ἀνώτερος ἀπὸ κάθε κοσμικὴ ἐπιρροὴ\, διακήρυτε τὴν ἀφοσίωσή του στὰ Ὀρθόδοξα δόγματα\, ὅπως τὰ διατύπωσαν οἱ οἰκουμενικὲς Σύνοδοι. Ἐπι πλέον διακρινόταν γιὰ τὸν ἀνεπίληπτο χαρακτήρα του και τὴ σωφροσύνη τοῦ βίου του\, ἀρετές ποὺ τὸν ἔκαναν ἀξιαγάπητο ἀπὸ τὸ εὐσεβὲς ποίμνιο τῆς Ἐκκλησίας. Ὀ αἱρετικὸς ὅμως ἄρχισε νὰ φέρει μὲ δυσφορία αὐτὴν τὴν ἱεροπρεπῆ διαγωγὴ τοῦ Πατριάρχη Μακεδόνιου\, τὸν ὁποῖο θεωροῦσε πὼς θὰ τὸν ἔχει στὸ χέρι του ὕστερα ἀπὸ τὴν ἐξορία τοῦ προκατόχου του. Ἀφοῦ εἶδε πὼς δὲν τὸ πέτυχε\, ἄρχισε νὰ στρέφεται ἐναντίον τοῦ Πατριάρχη Μακεδόνιου καὶ χρησιμοποιοῦσε κάθε ποταπὸ μέσο γιὰ νὰ δυσφημίσει τὸν ἐνάρετο Μακεδόνιο. Ἀκόμα καὶ τὴν ἁγνότητα τοῦ βίου του ἐπειχειρεῖ νὰ σπιλώσει\, δημιουργῶντας τὶς πλέον ψευδεῖς κατηγορίες ἐναντίον τοῦ Ἁγίου Ἱεράρχη. Ἐκεῖνο ὅμως πού συνέβαλε περισσότερο νὰ ἀποκαλυφθεῖ ἡ ἔνταση τοῦ αὐτοκράτορα πρὸς τὸν Πατριάρχη ἦταν ἡ στάση τοῦ Μακεδόνιου πρὸς τοὺς αἱρετικοὺς Μονοφυσίτες\, ποὺ προσπαθοῦσαν μὲ κάθε τρόπο νὰ μποῦν στὴν Ἐκκλησία καὶ νὰ ἐπιβάλλουν τὶς κακοδοξίες τους. Ὁ Μακεδόνιος ἀντιστάθηκε καὶ μαζί του βρίσκονταν  μαζί του βρίσκονταν ὅλοι οἱ όρθόδοξοι Κωνσταντινοπολίτες. Κατὰ τὸ ἔτος 510 ἡ ἀγανάκτηση τοῦ λαοῦ κατὰ τοῦ αὔτοκράτορα ἦταν ἀσυγκράτητη. Ξεχύθηκαν στοὺς δρόμους σὲ μία διαδήλωση φωνάζοντας: «Εἶναι ἡ ὥρα Χριστιανοὶ γιὰ τὸ μαρτύριο. Κανεὶς νὰ μὴν ἐγκαταλείψει τὸν Πατέρα μας στὸ ἔλεος τοῦ βασιλιὰ\, ποὺ εἶναι ἀνάξιος του θρόνου»! Ὁ Ἀναστάσιος φοβήθηκε γιὰ στάση\, ἀποσύρθηκε στὸ ἀνάκτορό του καὶ μὲ τοὺς αἱρετικοὺς συμβούλους του συσκέπτοντο μὲ ποιὸ τρόπο θὰ ἐπιβληθεῖ σ΄αὐτήν τὴν κατάσταση. Βρῆκαν\, λοιπόν\, μία λύση πονηρὴ καὶ σατανική. Ὁ Ἀναστάσιος κάλεσε τὸν Πατριάρχη Μακεδόνιο θέλοντας δῆθεν νὰ συμφιλιωθεῖ μαζί του. Ὁ Μακεδόνιος\, ἄν καὶ γνώριζε τὶς προθέσεις τοῦ δυσεβοῦς βασιλιὰ\, ἦρθε στὰ ἀνάκτορα\, ὅπου δὲν δίστασε νὰ τὸν ἐλέγξει γιὰ τὶς ἐνέργειές του ὑπὲρ τῶν αἱρετικῶν. Ὀργισμένος ὁ αὐτοκράτορας ἔπεισε κάποιους αἱρετικοὺς νὰ κινήσουν κατὰ τοῦ Πατριάρχη αἰσχρὲς κι ἀνυπόστατες κατηγορίες. Μάταια ὁ Πατριάρχης Μακεδόνιος διαμαρτυρήθηκε. Ὁ Βασιλιὰς οὔτε ποὺ θέλησε νὰ τὸν ἀκούσει ἀλλὰ τὸν καταδίκασε σὲ ἐξορία. Παρὰ τὶς ἀντιδράσεις τοῦ λαοῦ ὁ Ἅγιος Μακεδόνιος στὶς 6 Αὐγούστου τοῦ 511καθαιρέθηκε καὶ μὲ στρατιωτικὴ βία διώχτηκε ἀπὸ τὸ Πατριαρχεῖο. Νύχτα καὶ κρυφὰ ἀπὸ τὸν εὐσεβῆ λαό\, ὅπως ἄλλοτε ὁ Ἱερὸς Χρυσόστομος\, μὲ μία συνοδεία ἄξεστων στρατιῶν σύρθηκε ἐξόριστος πρὸς τὰ Εὐχαϊτα τοῦ Πόντου\, ὅπως καὶ ὁ προκάτοχος τοῦ Εὐφήμιος. Οἱ στρατιῶτες εἶχαν λάβει ἐντολὴ καθ’ ὁδὸν νὰ τὸν βασανίζουν μέ ὁποῖον τρόπο ἤθελαν. Ἔτσι\, ὅπως οἱ ἀρχαίοι Μάρτυρες\, ὁ Ἅγιος Μακεδόνιος ὑπέμενε μὲ καρτερία ὅλους αὐτοὺς τοὺς πειρασμοὺς παρακαλῶντας τὸν Κύριο νὰ τοὺς συγψωρήσει γιὰ ὅ\,τι τοῦ κάνουν. Σὰν ἔφθασαν σρὰ Εὐχάϊτα οἱ Πιστοὶ τὸν ὑποδέχθηκαν μὲ μεγάλη ἀγάπη καὶ φρόντισαν νὰ τοῦ ἁπαλύνουν τοὺς πόνους του. Τὴν ἐποχὴ αὐτὴ μὲ τὴν ἀσέβεια ποὺ ἐπικρατοῦσε ἡ αὐτοκρατορία δοκιμάζεται σκληρὰ ἀπὸ τοὺς ἐξωτερικοὺς ἐχθρούς της. Οἱ Οὖνοι καταλαμβάνουν τὸν Πόντο\, τὴ Γαλατία καὶ τὴν Καππαδοκία. Οἱ κάτοικοι τῶν Εὐχαϊτων γιὰ νὰ προστατέψουν τὸν ἄρρωστο κι ἐξόριστο Πατριάρχη Μακεδόνιο τὸν μετέφεραν στὰ Γάγγρα τῆς Παφλαγονίας. Ἐκεῖ στὶς 25 Ἀπριλίου τοῦ 516 εἱρηνικὰ παρέδωσε τὸ πνεῦμα του στὸν Κύριο ὕστερα ἀπὸ τόσους ἀγῶνες καὶ θλίψεις. Μάλιστα μετὰ τὴν κοίμηςὴ του ἐμφανίσθηκε σὲ ἕναν ὑπηρέτη του στὴν Κωνσταντινούπολη κατὰ τὸν ὕπνο του καὶ τοῦ εἶπε: «Πήγαινε  νὰ πεῖς στὸν αὐτοκράτορα ὅτι ἐγὼ πηγαίνω πρὸς στοὺς πατέρες μου\, τῶν ὁποίων τὴν πίστη ἐφύλαξα. Θὰ σὲ περιμένω νὰ ἔλθεις καὶ σὺ ἐνώπιον τοῦ Δεσπότου Χριστοῦ νὰ δικαστοῦμε ἀπὸ αὐτὸν». Μετὰ τὸ θάνατό του ἡ αύτοκρατορία δοκιμάσθηκε σκληρὰ ἀπὸ διάφορους λαοὺς καὶ σὲ πολλὰ μέτωπα. Οἱ αἱρετικοὶ συναισθάνθηκαν τότε τὸ ἀνόμημά τους κι ἔσπευσαν νὰ ζητήσουν συγχώρηση ἀπὸ τὸ σκήνωμα τοῦ Ἁγίου Μακεδόνιου\, ποὺ μὲ τιμὲς μεταφέρθηκε στὴν Κωνσταντινούπολη. Ἀναμφίβολα λοιπὸν στὸ τέλος\, σὰν μιὰ ἐπιβράβευση\, πάντα λάμπει ἡ ἀρετὴ τῶν Ἁγίων.   \n  \nΠηγή: «ΜΟΡΦΕΣ ΑΠΟ ΤΟ ΣΥΝΑΞΑΡΙ» ΙΩΑΝΝΑΣ Δ. ΚΑΤΣΟΥΛΑ\, ΕΚΔΟΣΕΙΣ ΚΥΠΡΗΣ\, ΑΘΗΝΑ 2017[/vc_column_text][/vc_column][/vc_row]
URL:https://galilea.gr/event/%ce%b8%ce%b5%ce%b9%ce%b1-%ce%bb%ce%b5%ce%b9%cf%84%ce%bf%cf%85%cf%81%ce%b3%ce%b9%ce%b1-%ce%b1%ce%b3%ce%b9%ce%bf%cf%85-%ce%bc%ce%b1%ce%ba%ce%b5%ce%b4%ce%bf%ce%bd%ce%b9%ce%bf%cf%85-2026/
LOCATION:ΙΕΡΟΣ ΝΑΟΣ ΜΕΓΑΛΟΜΑΡΤΥΡΟΣ ΑΓΙΟΥ ΓΕΩΡΓΙΟΥ ΛΑΡΙΣΗΣ\, Λεωφ.Κ.Καραμανλή καί Αρκαδίου\, ΛΑΡΙΣΑ\, ΛΑΡΙΣΗΣ\, 41336\, Ελλάδα
CATEGORIES:ΕΚΔΗΛΩΣΕΙΣ
END:VEVENT
END:VCALENDAR